BEGIN:VCALENDAR
VERSION:2.0
PRODID:-//time.now/holidays//NONSGML v1.0//EN
BEGIN:VEVENT
UID:d4f09c67-9955-4d72-a1be-002fc1d444ed
DTSTAMP:20260420T090741Z
DTSTART;VALUE=DATE:20260412
SUMMARY:Orthodox Easter Sunday (Albania)
END:VEVENT
END:VCALENDAR