BEGIN:VCALENDAR
VERSION:2.0
PRODID:-//time.now/holidays//NONSGML v1.0//EN
BEGIN:VEVENT
UID:9e30f4f6-db46-4a5e-a65a-410be6a0e220
DTSTAMP:20260420T191959Z
DTSTART;VALUE=DATE:20260322
SUMMARY:Nowruz Day (Albania)
END:VEVENT
END:VCALENDAR