BEGIN:VCALENDAR
VERSION:2.0
PRODID:-//time.now/holidays//NONSGML v1.0//EN
BEGIN:VEVENT
UID:abe4f395-f881-4a08-abbc-a8dee24b495d
DTSTAMP:20260422T193237Z
DTSTART;VALUE=DATE:20270104
SUMMARY:New Year's Day (observed) (Albania)
END:VEVENT
END:VCALENDAR