BEGIN:VCALENDAR
VERSION:2.0
PRODID:-//time.now/holidays//NONSGML v1.0//EN
BEGIN:VEVENT
UID:0a3dc600-dd24-4f6a-9a23-542be29694cb
DTSTAMP:20260420T213843Z
DTSTART;VALUE=DATE:20261201
SUMMARY:Liberation Day (observed) (Albania)
END:VEVENT
END:VCALENDAR