BEGIN:VCALENDAR
VERSION:2.0
PRODID:-//time.now/holidays//NONSGML v1.0//EN
BEGIN:VEVENT
UID:50ee9227-3440-484a-92eb-08567953595f
DTSTAMP:20260422T193230Z
DTSTART;VALUE=DATE:20250330
SUMMARY:Eid al-Fitr (Albania)
END:VEVENT
END:VCALENDAR