BEGIN:VCALENDAR
VERSION:2.0
PRODID:-//time.now/holidays//NONSGML v1.0//EN
BEGIN:VEVENT
UID:7f87ec87-4c0c-41c1-b203-ae195d99f830
DTSTAMP:20260422T211102Z
DTSTART;VALUE=DATE:20250331
SUMMARY:Eid al-Fitr (observed) (Albania)
END:VEVENT
END:VCALENDAR