BEGIN:VCALENDAR
VERSION:2.0
PRODID:-//time.now/holidays//NONSGML v1.0//EN
BEGIN:VEVENT
UID:c55b1397-f1dd-421e-b4f5-e9d41fec6592
DTSTAMP:20260422T084230Z
DTSTART;VALUE=DATE:20270517
SUMMARY:Eid al-Adha (observed, estimated) (Albania)
END:VEVENT
END:VCALENDAR