BEGIN:VCALENDAR
VERSION:2.0
PRODID:-//time.now/holidays//NONSGML v1.0//EN
BEGIN:VEVENT
UID:c34ffea1-5ebb-445d-bfd2-e245fcae11bb
DTSTAMP:20260420T194851Z
DTSTART;VALUE=DATE:20261225
SUMMARY:Christmas Day (Albania)
END:VEVENT
END:VCALENDAR