BEGIN:VCALENDAR
VERSION:2.0
PRODID:-//time.now/holidays//NONSGML v1.0//EN
BEGIN:VEVENT
UID:2d656b9d-e157-4549-862b-269e8711c44a
DTSTAMP:20260420T212352Z
DTSTART;VALUE=DATE:20261123
SUMMARY:Alphabet Day (observed) (Albania)
END:VEVENT
END:VCALENDAR