BEGIN:VCALENDAR
VERSION:2.0
PRODID:-//time.now/holidays//NONSGML v1.0//EN
BEGIN:VEVENT
UID:a9b270c6-8dcb-4d01-a63e-f239ec18b164
DTSTAMP:20260420T142910Z
DTSTART;VALUE=DATE:20260405
SUMMARY:Easter Sunday (Islas Åland)
END:VEVENT
END:VCALENDAR