BEGIN:VCALENDAR
VERSION:2.0
PRODID:-//time.now/holidays//NONSGML v1.0//EN
BEGIN:VEVENT
UID:e442252d-9b9e-4a32-9f34-aca463b5b2e8
DTSTAMP:20260420T204813Z
DTSTART;VALUE=DATE:20240916
SUMMARY:Prophet's Birthday (Afganistán)
END:VEVENT
END:VCALENDAR