BEGIN:VCALENDAR
VERSION:2.0
PRODID:-//time.now/holidays//NONSGML v1.0//EN
BEGIN:VEVENT
UID:6037ceed-d88a-42d7-86e0-53b9a8ba9b10
DTSTAMP:20260420T215047Z
DTSTART;VALUE=DATE:20260428
SUMMARY:Mojahedin's Victory Day (Afganistán)
END:VEVENT
END:VCALENDAR