BEGIN:VCALENDAR
VERSION:2.0
PRODID:-//time.now/holidays//NONSGML v1.0//EN
BEGIN:VEVENT
UID:616a629a-bb3c-4aaa-9b64-4d22103be754
DTSTAMP:20260422T115537Z
DTSTART;VALUE=DATE:20260819
SUMMARY:Afghanistan Independence Day (Afganistán)
END:VEVENT
END:VCALENDAR